BEGIN:VCALENDAR
VERSION:2.0
PRODID:-//eventon.com NONSGML v1.0//EN
BEGIN:VEVENT
UID:69eaaff5225dd
DTSTAMP:20260424T014909
DTSTART:20150529T200000Z
DTEND:20150530T040000Z
LOCATION:
SUMMARY:Amber Muse pres. Discoteka Assorti @ Cita Puse
DESCRIPTION: Amber Muse pres. Discoteka Assorti @ Cita Puse
URL:https://ambermuse.com/events/amber-muse-pres-discoteka-assorti/
END:VEVENT
END:VCALENDAR