BEGIN:VCALENDAR
VERSION:2.0
PRODID:-//eventon.com NONSGML v1.0//EN
BEGIN:VEVENT
UID:69e7324bc8dc4
DTSTAMP:20260421T101611
DTSTART:20200313T230000Z
DTEND:20200315T010000Z
LOCATION:
SUMMARY:Accidental Point (Minsk/BY)
DESCRIPTION: Accidental Point (Minsk/BY)
URL:https://ambermuse.com/events/accidental-society-minsk-by/
END:VEVENT
END:VCALENDAR