BEGIN:VCALENDAR
VERSION:2.0
PRODID:-//eventon.com NONSGML v1.0//EN
BEGIN:VEVENT
UID:69e63b9004c1d
DTSTAMP:20260420T164328
DTSTART:20170803T220000Z
DTEND:20170805T040000Z
LOCATION:
SUMMARY:Residency @ Teritorija
DESCRIPTION: Residency @ Teritorija
URL:https://ambermuse.com/events/residency-teritorija-13/
END:VEVENT
END:VCALENDAR